BEGIN:VCALENDAR
VERSION:2.0
PRODID:-//wp-events-plugin.com//7.2.3.1//EN
TZID:America/Los_Angeles
X-WR-TIMEZONE:America/Los_Angeles
BEGIN:VEVENT
UID:357@zone7.pca.org
DTSTART;TZID=America/Los_Angeles:20260412T083000
DTEND;TZID=America/Los_Angeles:20260412T130000
DTSTAMP:20260320T005436Z
URL:https://zone7.pca.org/events/zone-7-svr-detailing-clinic-judges-traini
 ng/
SUMMARY:Zone 7/SVR “Detailing Clinic” & "Judges Training"
DESCRIPTION:
ATTACH;FMTTYPE=image/jpeg:https://zone7.pca.org/wp-content/uploads/concour
 s-judging-school.jpg
CATEGORIES:Concours
LOCATION:Porsche Sacramento\, 2200 Auburn Blvd\, Sacramento\, CA\, 95821\, 
 United States
GEO:38.624109;-121.414578
X-APPLE-STRUCTURED-LOCATION;VALUE=URI;X-ADDRESS=2200 Auburn Blvd\, Sacramen
 to\, CA\, 95821\, United States;X-APPLE-RADIUS=100;X-TITLE=Porsche Sacrame
 nto:geo:38.624109,-121.414578
END:VEVENT
BEGIN:VTIMEZONE
TZID:America/Los_Angeles
X-LIC-LOCATION:America/Los_Angeles
BEGIN:DAYLIGHT
DTSTART:20260308T030000
TZOFFSETFROM:-0800
TZOFFSETTO:-0700
TZNAME:PDT
END:DAYLIGHT
END:VTIMEZONE
END:VCALENDAR