BEGIN:VCALENDAR
VERSION:2.0
PRODID:-//wp-events-plugin.com//7.2.3.1//EN
TZID:America/Los_Angeles
X-WR-TIMEZONE:America/Los_Angeles
BEGIN:VEVENT
UID:350@zone7.pca.org
DTSTART;TZID=America/Los_Angeles;VALUE=DATE:20260614
DTEND;TZID=America/Los_Angeles;VALUE=DATE:20260615
DTSTAMP:20260124T015442Z
URL:https://zone7.pca.org/events/concours-yosemite-region-2/
SUMMARY:Concours: Yosemite Region
DESCRIPTION:
ATTACH;FMTTYPE=image/jpeg:https://zone7.pca.org/wp-content/uploads/2021-yo
 semite-tenaya-lodge-icon.jpg
CATEGORIES:Concours
LOCATION:Del Rio Country Club\, 801 Stewart Rd\, Modesto\, CA\, 95356\, Uni
 ted States
GEO:37.744005;-121.004615
X-APPLE-STRUCTURED-LOCATION;VALUE=URI;X-ADDRESS=801 Stewart Rd\, Modesto\, 
 CA\, 95356\, United States;X-APPLE-RADIUS=100;X-TITLE=Del Rio Country Club
 :geo:37.744005,-121.004615
END:VEVENT
BEGIN:VTIMEZONE
TZID:America/Los_Angeles
X-LIC-LOCATION:America/Los_Angeles
BEGIN:DAYLIGHT
DTSTART:20260308T030000
TZOFFSETFROM:-0800
TZOFFSETTO:-0700
TZNAME:PDT
END:DAYLIGHT
END:VTIMEZONE
END:VCALENDAR