BEGIN:VCALENDAR
VERSION:2.0
PRODID:-//wp-events-plugin.com//7.2.3.1//EN
TZID:America/Los_Angeles
X-WR-TIMEZONE:America/Los_Angeles
BEGIN:VEVENT
UID:351@zone7.pca.org
DTSTART;TZID=America/Los_Angeles;VALUE=DATE:20260712
DTEND;TZID=America/Los_Angeles;VALUE=DATE:20260713
DTSTAMP:20260124T024416Z
URL:https://zone7.pca.org/events/concours-sierra-nevada-region-9/
SUMMARY:Concours: Sierra Nevada Region
DESCRIPTION:
ATTACH;FMTTYPE=image/jpeg:https://zone7.pca.org/wp-content/uploads/2025-si
 erra-nevada-mormon-station-icon.jpg
CATEGORIES:Concours
LOCATION:Mormon Station State Historic Park\, 2295 Main St\, Genoa\, NV\, 8
 9411\, United States
GEO:39.004685;-119.845177
X-APPLE-STRUCTURED-LOCATION;VALUE=URI;X-ADDRESS=2295 Main St\, Genoa\, NV\,
  89411\, United States;X-APPLE-RADIUS=100;X-TITLE=Mormon Station State His
 toric Park:geo:39.004685,-119.845177
END:VEVENT
BEGIN:VTIMEZONE
TZID:America/Los_Angeles
X-LIC-LOCATION:America/Los_Angeles
BEGIN:DAYLIGHT
DTSTART:20260308T030000
TZOFFSETFROM:-0800
TZOFFSETTO:-0700
TZNAME:PDT
END:DAYLIGHT
END:VTIMEZONE
END:VCALENDAR