BEGIN:VCALENDAR
VERSION:2.0
PRODID:-//wp-events-plugin.com//7.2.3.1//EN
TZID:America/Los_Angeles
X-WR-TIMEZONE:America/Los_Angeles
BEGIN:VEVENT
UID:349@zone7.pca.org
DTSTART;TZID=America/Los_Angeles;VALUE=DATE:20260607
DTEND;TZID=America/Los_Angeles;VALUE=DATE:20260608
DTSTAMP:20260411T210821Z
URL:https://zone7.pca.org/events/concours-sacramento-valley-region-9/
SUMMARY:Concours: Sacramento Valley Region
DESCRIPTION:Note - this is a Special 911 SC &amp\; 3.2 Carrera PCA Registry
  event as well.\n
ATTACH;FMTTYPE=image/jpeg:https://zone7.pca.org/wp-content/uploads/2024-sa
 cramento-vally-porsche-sacramento-icon.jpg
CATEGORIES:Concours
LOCATION:Porsche Sacramento\, 2200 Auburn Blvd\, Sacramento\, CA\, 95821\, 
 United States
GEO:38.624109;-121.414578
X-APPLE-STRUCTURED-LOCATION;VALUE=URI;X-ADDRESS=2200 Auburn Blvd\, Sacramen
 to\, CA\, 95821\, United States;X-APPLE-RADIUS=100;X-TITLE=Porsche Sacrame
 nto:geo:38.624109,-121.414578
END:VEVENT
BEGIN:VTIMEZONE
TZID:America/Los_Angeles
X-LIC-LOCATION:America/Los_Angeles
BEGIN:DAYLIGHT
DTSTART:20260308T030000
TZOFFSETFROM:-0800
TZOFFSETTO:-0700
TZNAME:PDT
END:DAYLIGHT
END:VTIMEZONE
END:VCALENDAR