BEGIN:VCALENDAR
VERSION:2.0
PRODID:-//wp-events-plugin.com//7.2.3.1//EN
TZID:America/Los_Angeles
X-WR-TIMEZONE:America/Los_Angeles
BEGIN:VEVENT
UID:352@zone7.pca.org
DTSTART;TZID=America/Los_Angeles;VALUE=DATE:20260719
DTEND;TZID=America/Los_Angeles;VALUE=DATE:20260720
DTSTAMP:20260124T023809Z
URL:https://zone7.pca.org/events/concours-monterey-bay-region-9/
SUMMARY:Concours: Monterey Bay Region
DESCRIPTION:The Monterey Bay Region presents: Concours in Paradise\nZone Co
 ncours #4 - A Zone 7 Concours\nSunday\, July 19\, 2025\, in Beautiful Carm
 el Valley\, CA\n\nLocation: Situated on the picturesque Monterey Peninsula
 \, the Carmel Valley Community Park is a grassy swale with tree-shaded pic
 nic area.\n\n\n\n&nbsp\;\n\n&nbsp\;
ATTACH;FMTTYPE=image/jpeg:https://zone7.pca.org/wp-content/uploads/2025-mo
 nterey-bay-carmel-valley-icon.jpg
CATEGORIES:Concours
LOCATION:Carmel Valley Community Park\, 63-71 W Carmel Valley Rd\, Carmel V
 alley\, CA\, 93924\, United States
GEO:36.483085;-121.729138
X-APPLE-STRUCTURED-LOCATION;VALUE=URI;X-ADDRESS=63-71 W Carmel Valley Rd\, 
 Carmel Valley\, CA\, 93924\, United States;X-APPLE-RADIUS=100;X-TITLE=Carm
 el Valley Community Park:geo:36.483085,-121.729138
END:VEVENT
BEGIN:VTIMEZONE
TZID:America/Los_Angeles
X-LIC-LOCATION:America/Los_Angeles
BEGIN:DAYLIGHT
DTSTART:20260308T030000
TZOFFSETFROM:-0800
TZOFFSETTO:-0700
TZNAME:PDT
END:DAYLIGHT
END:VTIMEZONE
END:VCALENDAR