BEGIN:VCALENDAR
VERSION:2.0
PRODID:-//wp-events-plugin.com//7.2.3.1//EN
TZID:America/Los_Angeles
X-WR-TIMEZONE:America/Los_Angeles
BEGIN:VEVENT
UID:353@zone7.pca.org
DTSTART;TZID=America/Los_Angeles;VALUE=DATE:20260802
DTEND;TZID=America/Los_Angeles;VALUE=DATE:20260803
DTSTAMP:20260124T021844Z
URL:https://zone7.pca.org/events/concours-golden-gate-region-7/
SUMMARY:Concours: Golden Gate Region
DESCRIPTION:PORSCHE REDWOOD CITY – GGR CONCOURS\n\nSunday\, August 2\, 20
 26\n\nPorsche Redwood City\n\n3636 Haven Avenue\, Redwood City\, CA 94063\
 n\nPresented by Golden Gate Region\, Porsche Club of America\, the concour
 s is a 2026 Zone 7 Competition
ATTACH;FMTTYPE=image/jpeg:https://zone7.pca.org/wp-content/uploads/2022-GG
 R-Concours-icon.jpg
CATEGORIES:Concours
LOCATION:Porsche Redwood City\, 3636 Haven Ave\, Redwood City\, CA\, 94063\
 , United States
GEO:37.485301;-122.184095
X-APPLE-STRUCTURED-LOCATION;VALUE=URI;X-ADDRESS=3636 Haven Ave\, Redwood Ci
 ty\, CA\, 94063\, United States;X-APPLE-RADIUS=100;X-TITLE=Porsche Redwood
  City:geo:37.485301,-122.184095
END:VEVENT
BEGIN:VTIMEZONE
TZID:America/Los_Angeles
X-LIC-LOCATION:America/Los_Angeles
BEGIN:DAYLIGHT
DTSTART:20260308T030000
TZOFFSETFROM:-0800
TZOFFSETTO:-0700
TZNAME:PDT
END:DAYLIGHT
END:VTIMEZONE
END:VCALENDAR