BEGIN:VCALENDAR
VERSION:2.0
PRODID:-//wp-events-plugin.com//7.2.3.1//EN
TZID:America/Los_Angeles
X-WR-TIMEZONE:America/Los_Angeles
BEGIN:VEVENT
UID:354@zone7.pca.org
DTSTART;TZID=America/Los_Angeles;VALUE=DATE:20260816
DTEND;TZID=America/Los_Angeles;VALUE=DATE:20260817
DTSTAMP:20260411T211828Z
URL:https://zone7.pca.org/events/concours-diablo-region-9/
SUMMARY:Concours: Diablo Region
DESCRIPTION:&nbsp\;\n\n&nbsp\;
ATTACH;FMTTYPE=image/jpeg:https://zone7.pca.org/wp-content/uploads/2025-di
 ablo-porsche-livermore-icon.jpg
CATEGORIES:Concours
LOCATION:Concannon Vineyard\, 4590 Tesla Rd\, Livermore\, CA\, 94550\, Unit
 ed States
GEO:37.666911;-121.739815
X-APPLE-STRUCTURED-LOCATION;VALUE=URI;X-ADDRESS=4590 Tesla Rd\, Livermore\,
  CA\, 94550\, United States;X-APPLE-RADIUS=100;X-TITLE=Concannon Vineyard:
 geo:37.666911,-121.739815
END:VEVENT
BEGIN:VTIMEZONE
TZID:America/Los_Angeles
X-LIC-LOCATION:America/Los_Angeles
BEGIN:DAYLIGHT
DTSTART:20260308T030000
TZOFFSETFROM:-0800
TZOFFSETTO:-0700
TZNAME:PDT
END:DAYLIGHT
END:VTIMEZONE
END:VCALENDAR