BEGIN:VCALENDAR
VERSION:2.0
PRODID:-//wp-events-plugin.com//7.2.3.1//EN
TZID:America/Los_Angeles
X-WR-TIMEZONE:America/Los_Angeles
BEGIN:VEVENT
UID:339@zone7.pca.org
DTSTART;TZID=America/Los_Angeles;VALUE=DATE:20260711
DTEND;TZID=America/Los_Angeles;VALUE=DATE:20260712
DTSTAMP:20260219T193420Z
URL:https://zone7.pca.org/events/ax-golden-gate-region-24/
SUMMARY:AX: Golden Gate Region
DESCRIPTION:
ATTACH;FMTTYPE=image/jpeg:https://zone7.pca.org/wp-content/uploads/GGR-aut
 ocross-icon.jpg
CATEGORIES:Autocross
LOCATION:Salinas Municipal Airport\, 88-98 Skyway Blvd\, Salinas\, CA\, 939
 05\, United States
GEO:36.666982;-121.613366
X-APPLE-STRUCTURED-LOCATION;VALUE=URI;X-ADDRESS=88-98 Skyway Blvd\, Salinas
 \, CA\, 93905\, United States;X-APPLE-RADIUS=100;X-TITLE=Salinas Municipal
  Airport:geo:36.666982,-121.613366
END:VEVENT
BEGIN:VTIMEZONE
TZID:America/Los_Angeles
X-LIC-LOCATION:America/Los_Angeles
BEGIN:DAYLIGHT
DTSTART:20260308T030000
TZOFFSETFROM:-0800
TZOFFSETTO:-0700
TZNAME:PDT
END:DAYLIGHT
END:VTIMEZONE
END:VCALENDAR